BEGIN:VCALENDAR
PRODID:-//eluceo/ical//2.0/EN
VERSION:2.0
CALSCALE:GREGORIAN
BEGIN:VEVENT
UID:1d13b1acda558f3eaafa9fa1a197bd00
DTSTAMP:20260423T025316Z
SUMMARY:CBS Purim Carnival 5785
DESCRIPTION:Jewish Federation of Central Massachusetts\nCalendar\nhttps://j
 ewishcentralmass.org/calendar/cbs-purim-carnival-5785\n\nCBS Purim Carniva
 l 5785\n\n10:30 am
DTSTART;TZID=America/New_York:20250316T103000
DTEND;TZID=America/New_York:20250316T123000
END:VEVENT
END:VCALENDAR
