BEGIN:VCALENDAR
PRODID:-//eluceo/ical//2.0/EN
VERSION:2.0
CALSCALE:GREGORIAN
BEGIN:VEVENT
UID:375159b509c03a1edb66c580cab0f8de
DTSTAMP:20260422T191755Z
SUMMARY:CBS - Post Pandemic B'nai Party
DESCRIPTION:Jewish Federation of Central Massachusetts\nCalendar\nhttps://j
 ewishcentralmass.org/calendar/cbs-post-pandemic-bnai-party\n\nCBS - Post P
 andemic B'nai Party at 6:00 pm
DTSTART;TZID=America/New_York:20211120T180000
DTEND;TZID=America/New_York:20211120T200000
END:VEVENT
END:VCALENDAR
