BEGIN:VCALENDAR
PRODID:-//eluceo/ical//2.0/EN
VERSION:2.0
CALSCALE:GREGORIAN
BEGIN:VEVENT
UID:0ab76d71fd87433c2c05215a24f51c12
DTSTAMP:20260421T051310Z
SUMMARY:CBS - Passover Service
DESCRIPTION:Jewish Federation of Central Massachusetts\nCalendar\nhttps://j
 ewishcentralmass.org/calendar/cbs-passover-service\n\nCBS - Passover Servi
 ce
DTSTART;TZID=America/New_York:20220416T160000
DTEND;TZID=America/New_York:20220416T180000
END:VEVENT
END:VCALENDAR
