BEGIN:VCALENDAR
PRODID:-//eluceo/ical//2.0/EN
VERSION:2.0
CALSCALE:GREGORIAN
BEGIN:VEVENT
UID:167d2e962c39ccca7d486a0420fd4ae3
DTSTAMP:20260421T085347Z
SUMMARY:CBS Megillah and Carnival
DESCRIPTION:Jewish Federation of Central Massachusetts\nCalendar\nhttps://j
 ewishcentralmass.org/calendar/cbs-megillah-and-carnival\n\nCBS Megillah an
 d Carnival\n\n10:30 am
DTSTART;TZID=America/New_York:20240324T103000
DTEND;TZID=America/New_York:20240324T123000
END:VEVENT
END:VCALENDAR
