BEGIN:VCALENDAR
PRODID:-//eluceo/ical//2.0/EN
VERSION:2.0
CALSCALE:GREGORIAN
BEGIN:VEVENT
UID:3d3deac4d72f6766120644c5abed66a0
DTSTAMP:20260421T152345Z
SUMMARY:CBS Last Week Religious School
DESCRIPTION:Jewish Federation of Central Massachusetts\nCalendar\nhttps://j
 ewishcentralmass.org/calendar/cbs-last-week-religious-school\n\nCBS Last w
 eek of Religious School
DTSTART;TZID=America/New_York:20230521T090000
DTEND;TZID=America/New_York:20230521T110000
END:VEVENT
END:VCALENDAR
