BEGIN:VCALENDAR
PRODID:-//eluceo/ical//2.0/EN
VERSION:2.0
CALSCALE:GREGORIAN
BEGIN:VEVENT
UID:0918b5c4f2e1ec21196385cd6fde46f8
DTSTAMP:20260423T195043Z
SUMMARY:CBS Kiddush Cup Golf Tournament
DESCRIPTION:Jewish Federation of Central Massachusetts\nCalendar\nhttps://j
 ewishcentralmass.org/calendar/cbs-kiddush-cup-golf-tournament\n\nCBS Kiddu
 sh Cup Golf Tournament
DTSTART;TZID=America/New_York:20130513T130000
DTEND;TZID=America/New_York:20130513T170000
END:VEVENT
END:VCALENDAR
