BEGIN:VCALENDAR
PRODID:-//eluceo/ical//2.0/EN
VERSION:2.0
CALSCALE:GREGORIAN
BEGIN:VEVENT
UID:1acd91d303d13f117b8d54d9b60484ec
DTSTAMP:20260423T175902Z
SUMMARY:CBS Havdalah Tot Shabbat
DESCRIPTION:Jewish Federation of Central Massachusetts\nCalendar\nhttps://j
 ewishcentralmass.org/calendar/cbs-havdalah-tot-shabbat\n\nCBS Havdalah Tot
  Shabbat\n\n4:00 pm
DTSTART;TZID=America/New_York:20241019T160000
DTEND;TZID=America/New_York:20241019T180000
END:VEVENT
END:VCALENDAR
