BEGIN:VCALENDAR
PRODID:-//eluceo/ical//2.0/EN
VERSION:2.0
CALSCALE:GREGORIAN
BEGIN:VEVENT
UID:b66b5fed47a8ef65027af5ee14e3ef7e
DTSTAMP:20260423T194932Z
SUMMARY:CBS Hanukkah Event 2023
DESCRIPTION:Jewish Federation of Central Massachusetts\nCalendar\nhttps://j
 ewishcentralmass.org/calendar/cbs-hanukkah-event-2023\n\nCBS Hanukkah Even
 t\n\n4:30 - 5:30 pm
DTSTART;TZID=America/New_York:20231210T163000
DTEND;TZID=America/New_York:20231210T173000
END:VEVENT
END:VCALENDAR
