BEGIN:VCALENDAR
PRODID:-//eluceo/ical//2.0/EN
VERSION:2.0
CALSCALE:GREGORIAN
BEGIN:VEVENT
UID:97a9b1f78a7aa619f2a549533d2e30ae
DTSTAMP:20260424T213959Z
SUMMARY:CBS Hanukkah Dinner
DESCRIPTION:Jewish Federation of Central Massachusetts\nCalendar\nhttps://j
 ewishcentralmass.org/calendar/cbs-hanukkah-dinner\n\nCBS Hanukkah Dinner\n
 \n6:00 pm
DTSTART;TZID=America/New_York:20221223T180000
DTEND;TZID=America/New_York:20221223T200000
END:VEVENT
END:VCALENDAR
