BEGIN:VCALENDAR
PRODID:-//eluceo/ical//2.0/EN
VERSION:2.0
CALSCALE:GREGORIAN
BEGIN:VEVENT
UID:230b727c7cf360904f7acd7375953bb1
DTSTAMP:20260423T081610Z
SUMMARY:CBS Hanukkah 2022
DESCRIPTION:Jewish Federation of Central Massachusetts\nCalendar\nhttps://j
 ewishcentralmass.org/calendar/cbs-hanukkah-2022\n\nCBS Hanukkah\n\n4:30 pm
DTSTART;TZID=America/New_York:20221218T163000
DTEND;TZID=America/New_York:20221218T183000
END:VEVENT
END:VCALENDAR
