BEGIN:VCALENDAR
PRODID:-//eluceo/ical//2.0/EN
VERSION:2.0
CALSCALE:GREGORIAN
BEGIN:VEVENT
UID:e3cfd3db0478fb89b62ea59eaa1af13b
DTSTAMP:20260421T022001Z
SUMMARY:CBS EC Summer Picnic
DESCRIPTION:Jewish Federation of Central Massachusetts\nCalendar\nhttps://j
 ewishcentralmass.org/calendar/cbs-ec-summer-picnic\n\nCBS EC Summer Picnic
 \n\n10:30 am
DTSTART;TZID=America/New_York:20220724T103000
DTEND;TZID=America/New_York:20220724T123000
END:VEVENT
END:VCALENDAR
