BEGIN:VCALENDAR
PRODID:-//eluceo/ical//2.0/EN
VERSION:2.0
CALSCALE:GREGORIAN
BEGIN:VEVENT
UID:6be2d7c6b3396396f6c6bb502ce4c92a
DTSTAMP:20260421T114835Z
SUMMARY:CBS Dr. MLK Jr Day of Celebration
DESCRIPTION:Jewish Federation of Central Massachusetts\nCalendar\nhttps://j
 ewishcentralmass.org/calendar/cbs-dr-mlk-jr-day-of-celebration\n\nCBS Dr M
 LK Jr Day of Celebration\n\n9:00 am
DTSTART;TZID=America/New_York:20230116T090000
DTEND;TZID=America/New_York:20230116T110000
END:VEVENT
END:VCALENDAR
