BEGIN:VCALENDAR
PRODID:-//eluceo/ical//2.0/EN
VERSION:2.0
CALSCALE:GREGORIAN
BEGIN:VEVENT
UID:e067bdb667c5093d99ec9371807eeb09
DTSTAMP:20260424T201802Z
SUMMARY:CBS - Concert
DESCRIPTION:Jewish Federation of Central Massachusetts\nCalendar\nhttps://j
 ewishcentralmass.org/calendar/cbs-concert\n\nCBS - Concert
DTSTART;TZID=America/New_York:20220514T190000
DTEND;TZID=America/New_York:20220514T210000
END:VEVENT
END:VCALENDAR
