BEGIN:VCALENDAR
PRODID:-//eluceo/ical//2.0/EN
VERSION:2.0
CALSCALE:GREGORIAN
BEGIN:VEVENT
UID:d2a3ab4f641a16b8bd9992b03cc358ed
DTSTAMP:20260423T065041Z
SUMMARY:CBS Community Seder 2025
DESCRIPTION:Jewish Federation of Central Massachusetts\nCalendar\nhttps://j
 ewishcentralmass.org/calendar/cbs-community-seder-2025\n\nCBS Community Se
 der 2025\n\n5:30 pm
DTSTART;TZID=America/New_York:20250413T173000
DTEND;TZID=America/New_York:20250413T193000
END:VEVENT
END:VCALENDAR
