BEGIN:VCALENDAR
PRODID:-//eluceo/ical//2.0/EN
VERSION:2.0
CALSCALE:GREGORIAN
BEGIN:VEVENT
UID:552615d9314f06298c58650e0f269c0d
DTSTAMP:20260420T131644Z
SUMMARY:CBS Community Seder 2024
DESCRIPTION:Jewish Federation of Central Massachusetts\nCalendar\nhttps://j
 ewishcentralmass.org/calendar/cbs-community-seder-2024\n\nCBS Community Se
 der\n\n6:00 pm
DTSTART;TZID=America/New_York:20240423T180000
DTEND;TZID=America/New_York:20240423T200000
END:VEVENT
END:VCALENDAR
