BEGIN:VCALENDAR
PRODID:-//eluceo/ical//2.0/EN
VERSION:2.0
CALSCALE:GREGORIAN
BEGIN:VEVENT
UID:0481007a17b2da9ed28a633119978da2
DTSTAMP:20260419T214532Z
SUMMARY:CBS - Community Seder
DESCRIPTION:Jewish Federation of Central Massachusetts\nCalendar\nhttps://j
 ewishcentralmass.org/calendar/cbs-community-seder\n\nCBS - Community Seder
 \n\n6:00 pm
DTSTART;TZID=America/New_York:20260402T180000
DTEND;TZID=America/New_York:20260402T200000
END:VEVENT
END:VCALENDAR
