BEGIN:VCALENDAR
PRODID:-//eluceo/ical//2.0/EN
VERSION:2.0
CALSCALE:GREGORIAN
BEGIN:VEVENT
UID:4c1ca3b353d7b0efbc11ef24d18a834e
DTSTAMP:20260423T073444Z
SUMMARY:CBS - Central Mass Connections
DESCRIPTION:Jewish Federation of Central Massachusetts\nCalendar\nhttps://j
 ewishcentralmass.org/calendar/cbs-central-mass-connections\n\nCBS - Centra
 l Mass Connections
DTSTART;TZID=America/New_York:20211107T130000
DTEND;TZID=America/New_York:20211107T150000
END:VEVENT
END:VCALENDAR
