BEGIN:VCALENDAR
PRODID:-//eluceo/ical//2.0/EN
VERSION:2.0
CALSCALE:GREGORIAN
BEGIN:VEVENT
UID:ef94a9af09d5557f1ece564e53661203
DTSTAMP:20260425T123147Z
SUMMARY:CBS Central MA Connections Fall Event
DESCRIPTION:Jewish Federation of Central Massachusetts\nCalendar\nhttps://j
 ewishcentralmass.org/calendar/cbs-central-ma-connections-fall-event\n\nCBS
  Central MA Connections in Faith Fall Event\n\n4:00 pm
DTSTART;TZID=America/New_York:20221015T160000
DTEND;TZID=America/New_York:20221015T180000
END:VEVENT
END:VCALENDAR
