BEGIN:VCALENDAR
PRODID:-//eluceo/ical//2.0/EN
VERSION:2.0
CALSCALE:GREGORIAN
BEGIN:VEVENT
UID:8980c5de9da7b11bad10a874987ffa88
DTSTAMP:20260421T101747Z
SUMMARY:CBS Board Meeting 2022-23
DESCRIPTION:Jewish Federation of Central Massachusetts\nCalendar\nhttps://j
 ewishcentralmass.org/calendar/cbs-board-meeting-2022-23\n\nCBS Board Meeti
 ng\n\n7:00 pm
DTSTART;TZID=America/New_York:20220727T190000
DTEND;TZID=America/New_York:20220727T210000
END:VEVENT
END:VCALENDAR
