BEGIN:VCALENDAR
PRODID:-//eluceo/ical//2.0/EN
VERSION:2.0
CALSCALE:GREGORIAN
BEGIN:VEVENT
UID:86b565c22b9b5e8e2169362f70be57e1
DTSTAMP:20260421T145202Z
SUMMARY:CBS Board Meeting
DESCRIPTION:Jewish Federation of Central Massachusetts\nCalendar\nhttps://j
 ewishcentralmass.org/calendar/cbs-board-meeting\n\nCBS Monthly Board Meeti
 ng
DTSTART;TZID=America/New_York:20201028T190000
DTEND;TZID=America/New_York:20201028T210000
END:VEVENT
END:VCALENDAR
