BEGIN:VCALENDAR
PRODID:-//eluceo/ical//2.0/EN
VERSION:2.0
CALSCALE:GREGORIAN
BEGIN:VEVENT
UID:148f712caed851681d3db5cba18f21b4
DTSTAMP:20260423T034548Z
SUMMARY:CBS BBQ 2023
DESCRIPTION:Jewish Federation of Central Massachusetts\nCalendar\nhttps://j
 ewishcentralmass.org/calendar/cbs-bbq-2023\n\nCBS BBQ\n\n12:00 - 3:00 pm
DTSTART;TZID=America/New_York:20230820T120000
DTEND;TZID=America/New_York:20230820T150000
END:VEVENT
END:VCALENDAR
