BEGIN:VCALENDAR
PRODID:-//eluceo/ical//2.0/EN
VERSION:2.0
CALSCALE:GREGORIAN
BEGIN:VEVENT
UID:7874daa9b58798f84938e24b3b07787a
DTSTAMP:20260422T041253Z
SUMMARY:CBS - Annual Meeting / Last day of school
DESCRIPTION:Jewish Federation of Central Massachusetts\nCalendar\nhttps://j
 ewishcentralmass.org/calendar/cbs-annual-meeting-last-day-of-school\n\nCBS
  - Annual Meeting / Last day of school\n\n9:00 am
DTSTART;TZID=America/New_York:20260503T090000
DTEND;TZID=America/New_York:20260503T110000
END:VEVENT
END:VCALENDAR
