BEGIN:VCALENDAR
PRODID:-//eluceo/ical//2.0/EN
VERSION:2.0
CALSCALE:GREGORIAN
BEGIN:VEVENT
UID:d8eb1ecbf1da680efaa6e3efd7e35ec1
DTSTAMP:20260425T172846Z
SUMMARY:CBS Annual Meeting 2025
DESCRIPTION:Jewish Federation of Central Massachusetts\nCalendar\nhttps://j
 ewishcentralmass.org/calendar/cbs-annual-meeting-2025\n\nCBS Annual Meetin
 g 2025\n\n10:30 am
DTSTART;TZID=America/New_York:20250504T103000
DTEND;TZID=America/New_York:20250504T123000
END:VEVENT
END:VCALENDAR
