BEGIN:VCALENDAR
PRODID:-//eluceo/ical//2.0/EN
VERSION:2.0
CALSCALE:GREGORIAN
BEGIN:VEVENT
UID:8e1df48b1c6f2c89fe2cb6004d152f4b
DTSTAMP:20260421T004503Z
SUMMARY:CBS 40th Anniversary Event
DESCRIPTION:Jewish Federation of Central Massachusetts\nCalendar\nhttps://j
 ewishcentralmass.org/calendar/cbs-40th-anniversary-event\n\nCBS 40th Anniv
 ersary Event
DTSTART;TZID=America/New_York:20190316T130000
DTEND;TZID=America/New_York:20190316T200000
END:VEVENT
END:VCALENDAR
