BEGIN:VCALENDAR
PRODID:-//eluceo/ical//2.0/EN
VERSION:2.0
CALSCALE:GREGORIAN
BEGIN:VEVENT
UID:8cb08a732a51c2bd6ccad1490647f803
DTSTAMP:20260422T012230Z
SUMMARY:CBS 2nd Night Comm Seder
DESCRIPTION:Jewish Federation of Central Massachusetts\nCalendar\nhttps://j
 ewishcentralmass.org/calendar/cbs-2nd-night-comm-seder\n\nCBS 2nd Night Co
 mm Seder\n\n5:30 pm
DTSTART;TZID=America/New_York:20230406T173000
DTEND;TZID=America/New_York:20230406T193000
END:VEVENT
END:VCALENDAR
