BEGIN:VCALENDAR
PRODID:-//eluceo/ical//2.0/EN
VERSION:2.0
CALSCALE:GREGORIAN
BEGIN:VEVENT
UID:08343c44400f816b4d2e9e2195d3e23a
DTSTAMP:20260421T082626Z
SUMMARY:CBS - 1st Day of Religious School
DESCRIPTION:Jewish Federation of Central Massachusetts\nCalendar\nhttps://j
 ewishcentralmass.org/calendar/cbs-1st-day-of-school\n\nCBS - 1st Day of Re
 ligious School
DTSTART;TZID=America/New_York:20210912T083000
DTEND;TZID=America/New_York:20210912T103000
END:VEVENT
END:VCALENDAR
