BEGIN:VCALENDAR
PRODID:-//eluceo/ical//2.0/EN
VERSION:2.0
CALSCALE:GREGORIAN
BEGIN:VEVENT
UID:5db83ecb0b293633f805e6245c146c95
DTSTAMP:20260424T170641Z
SUMMARY:Candle Making with Maayan
DESCRIPTION:Jewish Federation of Central Massachusetts\nCalendar\nhttps://j
 ewishcentralmass.org/calendar/candle-making-with-maayan\n\nCandle Making w
 ith Maayan\n\nDecember 9 at 6:00 pm\n\nCongregation Beth Israel Library\n\
 nRSVP Here
DTSTART;TZID=America/New_York:20241209T180000
DTEND;TZID=America/New_York:20241209T200000
END:VEVENT
END:VCALENDAR
