BEGIN:VCALENDAR
PRODID:-//eluceo/ical//2.0/EN
VERSION:2.0
CALSCALE:GREGORIAN
BEGIN:VEVENT
UID:f72d86d7479d17705f1b4956c3f61ea7
DTSTAMP:20260423T045622Z
SUMMARY:Camp Bauerccrest Informational Meet & Greet
DESCRIPTION:Jewish Federation of Central Massachusetts\nCalendar\nhttps://j
 ewishcentralmass.org/calendar/camp-bauerccrest-informational-meet-greet\n\
 nhttps://www.facebook.com/events/1601393256764438/
DTSTART;TZID=America/New_York:20150308T140000
DTEND;TZID=America/New_York:20150308T160000
END:VEVENT
END:VCALENDAR
