BEGIN:VCALENDAR
PRODID:-//eluceo/ical//2.0/EN
VERSION:2.0
CALSCALE:GREGORIAN
BEGIN:VEVENT
UID:47e82c2bf33bd5711d2db9c320b84d1b
DTSTAMP:20260421T143248Z
SUMMARY:CALENDAR CLEARANCE
DESCRIPTION:Jewish Federation of Central Massachusetts\nCalendar\nhttps://j
 ewishcentralmass.org/calendar/calendar-clearance2018\n\nCalendar Clearance
DTSTART;TZID=America/New_York:20180606T160000
DTEND;TZID=America/New_York:20180606T180000
END:VEVENT
END:VCALENDAR
