BEGIN:VCALENDAR
PRODID:-//eluceo/ical//2.0/EN
VERSION:2.0
CALSCALE:GREGORIAN
BEGIN:VEVENT
UID:1f2d46131d1582a2d87397e26e4b75ae
DTSTAMP:20260423T092406Z
SUMMARY:CALENDAR CLEARANCE
DESCRIPTION:Jewish Federation of Central Massachusetts\nCalendar\nhttps://j
 ewishcentralmass.org/calendar/calendar-clearance2016\n\nCalendar Clearance
DTSTART;TZID=America/New_York:20160609T160000
DTEND;TZID=America/New_York:20160609T170000
END:VEVENT
END:VCALENDAR
