BEGIN:VCALENDAR
PRODID:-//eluceo/ical//2.0/EN
VERSION:2.0
CALSCALE:GREGORIAN
BEGIN:VEVENT
UID:f84e28f196dd772bee538751383dff24
DTSTAMP:20260422T200536Z
SUMMARY:CALENDAR CLEARANCE
DESCRIPTION:Jewish Federation of Central Massachusetts\nCalendar\nhttps://j
 ewishcentralmass.org/calendar/calendar-clearance2\n\nCalendar Clearance at
  JFCM Boardroom
DTSTART;TZID=America/New_York:20150610T160000
DTEND;TZID=America/New_York:20150610T170000
END:VEVENT
END:VCALENDAR
