BEGIN:VCALENDAR
PRODID:-//eluceo/ical//2.0/EN
VERSION:2.0
CALSCALE:GREGORIAN
BEGIN:VEVENT
UID:35de0e5eb1143cc49c2aedf205db14e7
DTSTAMP:20260423T012248Z
SUMMARY:CALENDAR CLEARANCE
DESCRIPTION:Jewish Federation of Central Massachusetts\nCalendar\nhttps://j
 ewishcentralmass.org/calendar/calendar-clearance\n\nCALENDAR CLEARANCE
DTSTART;TZID=America/New_York:20130610T160000
DTEND;TZID=America/New_York:20130610T180000
END:VEVENT
END:VCALENDAR
