BEGIN:VCALENDAR
PRODID:-//eluceo/ical//2.0/EN
VERSION:2.0
CALSCALE:GREGORIAN
BEGIN:VEVENT
UID:0831394b1686e0e51968f158ebf717af
DTSTAMP:20260424T004304Z
SUMMARY:Temple Emanuel Sinai Brotherhood Breakfast
DESCRIPTION:Jewish Federation of Central Massachusetts\nCalendar\nhttps://j
 ewishcentralmass.org/calendar/cal99\n\nTemple Emanuel Sinai Brotherhood Br
 eakfast
DTSTART;TZID=America/New_York:20150208T093000
DTEND;TZID=America/New_York:20150208T110000
END:VEVENT
END:VCALENDAR
