BEGIN:VCALENDAR
PRODID:-//eluceo/ical//2.0/EN
VERSION:2.0
CALSCALE:GREGORIAN
BEGIN:VEVENT
UID:26eb4c23df457b06ac076ee95f329e42
DTSTAMP:20260423T030752Z
SUMMARY:Jewish Community Center Winter Gala Event
DESCRIPTION:Jewish Federation of Central Massachusetts\nCalendar\nhttps://j
 ewishcentralmass.org/calendar/cal98\n\nJewish Community Center Winter Gala
  Event
DTSTART;TZID=America/New_York:20150207T183000
DTEND;TZID=America/New_York:20150207T220000
END:VEVENT
END:VCALENDAR
