BEGIN:VCALENDAR
PRODID:-//eluceo/ical//2.0/EN
VERSION:2.0
CALSCALE:GREGORIAN
BEGIN:VEVENT
UID:4f8f42dbd26641b17b29fb7867963447
DTSTAMP:20260423T194052Z
SUMMARY:Congregation Beth Israel Go Red Shabbat and Shabbat in Shul
DESCRIPTION:Jewish Federation of Central Massachusetts\nCalendar\nhttps://j
 ewishcentralmass.org/calendar/cal97\n\nCongregation Beth Israel Go Red Sha
 bbat and Shabbat in Shul
DTSTART;TZID=America/New_York:20150207T090000
DTEND;TZID=America/New_York:20150207T160000
END:VEVENT
END:VCALENDAR
