BEGIN:VCALENDAR
PRODID:-//eluceo/ical//2.0/EN
VERSION:2.0
CALSCALE:GREGORIAN
BEGIN:VEVENT
UID:c57391a0a798d5ac7b4ebc39d15007a3
DTSTAMP:20260422T134049Z
SUMMARY:Beth Tikvah Community Wide Tu B'shevat Seder
DESCRIPTION:Jewish Federation of Central Massachusetts\nCalendar\nhttps://j
 ewishcentralmass.org/calendar/cal96\n\nBeth Tikvah Community Wide Tu B'she
 vat Seder
DTSTART;TZID=America/New_York:20150204T170000
DTEND;TZID=America/New_York:20150204T190000
END:VEVENT
END:VCALENDAR
