BEGIN:VCALENDAR
PRODID:-//eluceo/ical//2.0/EN
VERSION:2.0
CALSCALE:GREGORIAN
BEGIN:VEVENT
UID:598bc8b43c1c22bae30fc26b3d677083
DTSTAMP:20260422T153819Z
SUMMARY:Congregation Beth Israel Board Meeting
DESCRIPTION:Jewish Federation of Central Massachusetts\nCalendar\nhttps://j
 ewishcentralmass.org/calendar/cal91\n\nCongregation Beth Israel Board Meet
 ing
DTSTART;TZID=America/New_York:20150129T193000
DTEND;TZID=America/New_York:20150129T210000
END:VEVENT
END:VCALENDAR
