BEGIN:VCALENDAR
PRODID:-//eluceo/ical//2.0/EN
VERSION:2.0
CALSCALE:GREGORIAN
BEGIN:VEVENT
UID:a395fa22e0e517ec55e0f3b1dbdc8ab1
DTSTAMP:20260422T052008Z
SUMMARY:Jewish Community Center Film Festival
DESCRIPTION:Jewish Federation of Central Massachusetts\nCalendar\nhttps://j
 ewishcentralmass.org/calendar/cal90\n\nJewish Community Center Film Festiv
 al
DTSTART;TZID=America/New_York:20150127T190000
DTEND;TZID=America/New_York:20150127T210000
END:VEVENT
END:VCALENDAR
