BEGIN:VCALENDAR
PRODID:-//eluceo/ical//2.0/EN
VERSION:2.0
CALSCALE:GREGORIAN
BEGIN:VEVENT
UID:e56da12bfee60839064df991eaf005e6
DTSTAMP:20260423T223808Z
SUMMARY:Beth Tikvah Hebrew School 1st Day
DESCRIPTION:Jewish Federation of Central Massachusetts\nCalendar\nhttps://j
 ewishcentralmass.org/calendar/cal9\n\nBeth Tikvah Hebrew School 1st Day
DTSTART;TZID=America/New_York:20140914T090000
DTEND;TZID=America/New_York:20140914T110000
END:VEVENT
END:VCALENDAR
