BEGIN:VCALENDAR
PRODID:-//eluceo/ical//2.0/EN
VERSION:2.0
CALSCALE:GREGORIAN
BEGIN:VEVENT
UID:7cdd187708c4ed66dd09dfe6dcb1b060
DTSTAMP:20260422T150526Z
SUMMARY:Congregation Beth Israel Sisterhood Event
DESCRIPTION:Jewish Federation of Central Massachusetts\nCalendar\nhttps://j
 ewishcentralmass.org/calendar/cal85\n\nCongregation Beth Israel Sisterhood
  Event
DTSTART;TZID=America/New_York:20150118T160000
DTEND;TZID=America/New_York:20150118T180000
END:VEVENT
END:VCALENDAR
