BEGIN:VCALENDAR
PRODID:-//eluceo/ical//2.0/EN
VERSION:2.0
CALSCALE:GREGORIAN
BEGIN:VEVENT
UID:2656c346767a650b1b75aca9667d14d6
DTSTAMP:20260421T195927Z
SUMMARY:Congregation Beth Israel Brotherhood Breakfast
DESCRIPTION:Jewish Federation of Central Massachusetts\nCalendar\nhttps://j
 ewishcentralmass.org/calendar/cal84\n\nCongregation Beth Israel Brotherhoo
 d Breakfast
DTSTART;TZID=America/New_York:20150118T093000
DTEND;TZID=America/New_York:20150118T110000
END:VEVENT
END:VCALENDAR
