BEGIN:VCALENDAR
PRODID:-//eluceo/ical//2.0/EN
VERSION:2.0
CALSCALE:GREGORIAN
BEGIN:VEVENT
UID:6d28f0e69121491cfe9d55ef31f05c08
DTSTAMP:20260423T015318Z
SUMMARY:Jewish Community Center Board Meeting
DESCRIPTION:Jewish Federation of Central Massachusetts\nCalendar\nhttps://j
 ewishcentralmass.org/calendar/cal81\n\nJewish Community Center Board Meeti
 ng
DTSTART;TZID=America/New_York:20150115T193000
DTEND;TZID=America/New_York:20150115T210000
END:VEVENT
END:VCALENDAR
