BEGIN:VCALENDAR
PRODID:-//eluceo/ical//2.0/EN
VERSION:2.0
CALSCALE:GREGORIAN
BEGIN:VEVENT
UID:938293b862e81e958cd96a8d91b84d6a
DTSTAMP:20260422T031324Z
SUMMARY:Jewish Federation of Central Mass Annual Meeting
DESCRIPTION:Jewish Federation of Central Massachusetts\nCalendar\nhttps://j
 ewishcentralmass.org/calendar/cal8\n\nJewish Federation of Central Mass An
 nual Meeting. Full details can be found by clicking here.
DTSTART;TZID=America/New_York:20140911T193000
DTEND;TZID=America/New_York:20140911T210000
END:VEVENT
END:VCALENDAR
