BEGIN:VCALENDAR
PRODID:-//eluceo/ical//2.0/EN
VERSION:2.0
CALSCALE:GREGORIAN
BEGIN:VEVENT
UID:9c245374f98601261c89dac8dd055ab4
DTSTAMP:20260425T190905Z
SUMMARY:Jewish Community Center Teen Event
DESCRIPTION:Jewish Federation of Central Massachusetts\nCalendar\nhttps://j
 ewishcentralmass.org/calendar/cal79\n\nJewish Community Center Teen Event
DTSTART;TZID=America/New_York:20150111T140000
DTEND;TZID=America/New_York:20150111T160000
END:VEVENT
END:VCALENDAR
