BEGIN:VCALENDAR
PRODID:-//eluceo/ical//2.0/EN
VERSION:2.0
CALSCALE:GREGORIAN
BEGIN:VEVENT
UID:e862b41598ea262bb103bca6116a18fa
DTSTAMP:20260424T060449Z
SUMMARY:Jewish Federation of Central Mass Cotton Leadership Program
DESCRIPTION:Jewish Federation of Central Massachusetts\nCalendar\nhttps://j
 ewishcentralmass.org/calendar/cal78\n\nJewish Federation of Central Mass C
 otton Leadership Program
DTSTART;TZID=America/New_York:20150115T193000
DTEND;TZID=America/New_York:20150115T210000
END:VEVENT
END:VCALENDAR
