BEGIN:VCALENDAR
PRODID:-//eluceo/ical//2.0/EN
VERSION:2.0
CALSCALE:GREGORIAN
BEGIN:VEVENT
UID:bcb3b36ed3df57c41f46a49f8ebc3368
DTSTAMP:20260423T043043Z
SUMMARY:Congregation B'nai Shalom Chocolate Ball Fundraiser
DESCRIPTION:Jewish Federation of Central Massachusetts\nCalendar\nhttps://j
 ewishcentralmass.org/calendar/cal77\n\nCongregation B'nai Shalom Chocolate
  Ball Fundraiser at Cyprian Keyes.
DTSTART;TZID=America/New_York:20150131T190000
DTEND;TZID=America/New_York:20150131T230000
END:VEVENT
END:VCALENDAR
