BEGIN:VCALENDAR
PRODID:-//eluceo/ical//2.0/EN
VERSION:2.0
CALSCALE:GREGORIAN
BEGIN:VEVENT
UID:e6614a1c7e33e595f9277efd3664e44e
DTSTAMP:20260423T194022Z
SUMMARY:Beth Tikvah and Congregation B'nai Shalom Joint Service
DESCRIPTION:Jewish Federation of Central Massachusetts\nCalendar\nhttps://j
 ewishcentralmass.org/calendar/cal76\n\nBeth Tikvah and Congregation B'nai 
 Shalom Joint Service
DTSTART;TZID=America/New_York:20150320T193000
DTEND;TZID=America/New_York:20150320T213000
END:VEVENT
END:VCALENDAR
