BEGIN:VCALENDAR
PRODID:-//eluceo/ical//2.0/EN
VERSION:2.0
CALSCALE:GREGORIAN
BEGIN:VEVENT
UID:934f522c554e63b3eec242f24c1a83ee
DTSTAMP:20260423T193952Z
SUMMARY:Jewish Healthcare Center Board Meeting
DESCRIPTION:Jewish Federation of Central Massachusetts\nCalendar\nhttps://j
 ewishcentralmass.org/calendar/cal73\n\nJewish Healthcare Center Board Meet
 ing
DTSTART;TZID=America/New_York:20150105T193000
DTEND;TZID=America/New_York:20150105T210000
END:VEVENT
END:VCALENDAR
