BEGIN:VCALENDAR
PRODID:-//eluceo/ical//2.0/EN
VERSION:2.0
CALSCALE:GREGORIAN
BEGIN:VEVENT
UID:5845544c87a96dec960860f685ea8393
DTSTAMP:20260422T003239Z
SUMMARY:Jewish War Veterans Breakfast
DESCRIPTION:Jewish Federation of Central Massachusetts\nCalendar\nhttps://j
 ewishcentralmass.org/calendar/cal70\n\nJewish War Veterans Breakfast
DTSTART;TZID=America/New_York:20141228T090000
DTEND;TZID=America/New_York:20141228T110000
END:VEVENT
END:VCALENDAR
