BEGIN:VCALENDAR
PRODID:-//eluceo/ical//2.0/EN
VERSION:2.0
CALSCALE:GREGORIAN
BEGIN:VEVENT
UID:b6862216b4e1ff62a2039e9ea0a1c9a9
DTSTAMP:20260423T210110Z
SUMMARY:Worcester Community Hebrew High School 1st Day of School
DESCRIPTION:Jewish Federation of Central Massachusetts\nCalendar\nhttps://j
 ewishcentralmass.org/calendar/cal7\n\nWorcester Community Hebrew High Scho
 ol 1st Day of School
DTSTART;TZID=America/New_York:20140910T183000
DTEND;TZID=America/New_York:20140910T203000
END:VEVENT
END:VCALENDAR
